BEGIN:VCALENDAR
VERSION:2.0
PRODID:-//wp-events-plugin.com//7.2.3.1//EN
TZID:Europe/Zurich
X-WR-TIMEZONE:Europe/Zurich
BEGIN:VEVENT
UID:55@keomt.com
DTSTART;TZID=Europe/Zurich:20250430T200000
DTEND;TZID=Europe/Zurich:20250430T210000
DTSTAMP:20250326T230846Z
URL:https://keomt.com/events/understanding-the-role-of-the-body-scheme-in-
 movement-control/
SUMMARY:Understanding the role of the "body schema" in movement control
DESCRIPTION:Moderator: Heidi Sinz
CATEGORIES:KEOMT Clinical Practice Webinars,Meetings and Events
END:VEVENT
BEGIN:VTIMEZONE
TZID:Europe/Zurich
X-LIC-LOCATION:Europe/Zurich
BEGIN:DAYLIGHT
DTSTART:20250330T030000
TZOFFSETFROM:+0100
TZOFFSETTO:+0200
TZNAME:CEST
END:DAYLIGHT
END:VTIMEZONE
END:VCALENDAR