BEGIN:VCALENDAR
VERSION:2.0
PRODID:-//wp-events-plugin.com//7.2.3.1//EN
TZID:Europe/Zurich
X-WR-TIMEZONE:Europe/Zurich
BEGIN:VEVENT
UID:61@keomt.com
DTSTART;TZID=Europe/Zurich:20260325T190000
DTEND;TZID=Europe/Zurich:20260325T200000
DTSTAMP:20260211T140114Z
URL:https://keomt.com/events/teaching-update-standardization-of-psychomoto
 r-skills-using-asynchronous-video-analysis/
SUMMARY:Teaching Update - Standardization of Psychomotor Skills using Async
 hronous Video Analysis
DESCRIPTION:Moderator: Cesar Hidalgo-Garcia
CATEGORIES:Meetings and Events,Webinars - Instructor Training
END:VEVENT
BEGIN:VTIMEZONE
TZID:Europe/Zurich
X-LIC-LOCATION:Europe/Zurich
BEGIN:STANDARD
DTSTART:20251026T020000
TZOFFSETFROM:+0200
TZOFFSETTO:+0100
TZNAME:CET
END:STANDARD
END:VTIMEZONE
END:VCALENDAR