BEGIN:VCALENDAR
VERSION:2.0
PRODID:-//wp-events-plugin.com//7.2.3.1//EN
TZID:Europe/Zurich
X-WR-TIMEZONE:Europe/Zurich
BEGIN:VEVENT
UID:58@keomt.com
DTSTART;TZID=Europe/Zurich:20251104T180000
DTEND;TZID=Europe/Zurich:20251104T190000
DTSTAMP:20251013T185251Z
URL:https://keomt.com/events/relieve-restore-rebuild-a-guide-to-thoracic-h
 ealth-john-krauss-pt-phd-ompt/
SUMMARY:Relieve\, Restore\, Rebuild: A Guide to Thoracic Health | John Krau
 ss PT\, PhD\, OMPT
DESCRIPTION:Moderator: John Krauss\, KEOMT International Instructor\n\nJoin
  us for a robust discussion of this important spinal region. The webinar w
 ill include live demonstrations of examination and intervention techniques
 . Ask questions in real time and discuss novel approaches to care for the 
 thoracic spine in various patient contexts and across the continuum of hea
 ling.
CATEGORIES:KEOMT Clinical Practice Webinars
END:VEVENT
BEGIN:VTIMEZONE
TZID:Europe/Zurich
X-LIC-LOCATION:Europe/Zurich
BEGIN:STANDARD
DTSTART:20251026T020000
TZOFFSETFROM:+0200
TZOFFSETTO:+0100
TZNAME:CET
END:STANDARD
END:VTIMEZONE
END:VCALENDAR