BEGIN:VCALENDAR
VERSION:2.0
PRODID:-//wp-events-plugin.com//7.2.3.1//EN
TZID:Europe/Zurich
X-WR-TIMEZONE:Europe/Zurich
BEGIN:VEVENT
UID:56@keomt.com
DTSTART;TZID=Europe/Zurich:20250910T200000
DTEND;TZID=Europe/Zurich:20250910T210000
DTSTAMP:20250819T201110Z
URL:https://keomt.com/events/keomt-strategic-plan/
SUMMARY:KEOMT Strategic Plan
DESCRIPTION:Moderators: Cesar Hidalgo-Garcia &amp\; John Krauss\n\nJoin the
  KEOMT executive board for an overview of our proposed 2025-2027 strategic
  plan. This plan was developed in response to the productive discussions w
 hich took place at the 2025 KEOMT Business Meeting in Zaragoza in addition
  to conversations and feedback from individual members. During this webina
 r\, we will summarize key aspects of the plan and seek feedback from membe
 rs before execution.
CATEGORIES:KEOMT Clinical Practice Webinars,Webinars
END:VEVENT
BEGIN:VTIMEZONE
TZID:Europe/Zurich
X-LIC-LOCATION:Europe/Zurich
BEGIN:DAYLIGHT
DTSTART:20250330T030000
TZOFFSETFROM:+0100
TZOFFSETTO:+0200
TZNAME:CEST
END:DAYLIGHT
END:VTIMEZONE
END:VCALENDAR