BEGIN:VCALENDAR
VERSION:2.0
PRODID:-//wp-events-plugin.com//7.2.3.1//EN
TZID:Europe/Zurich
X-WR-TIMEZONE:Europe/Zurich
BEGIN:VEVENT
UID:62@keomt.com
DTSTART;TZID=Europe/Zurich:20260415T180000
DTEND;TZID=Europe/Zurich:20260415T190000
DTSTAMP:20260331T164722Z
URL:https://keomt.com/events/keomt-research-lightning-rounds/
SUMMARY:KEOMT Research Lightning Rounds
DESCRIPTION:Join us for this collection of recent research by Kaltenborn-Ev
 jenth practitioners\, educators and researchers. The session will highligh
 t emerging evidence and innovative ideas in several brief (8-minute) prese
 ntations.
CATEGORIES:KEOMT Clinical Practice Webinars,Meetings and Events
END:VEVENT
BEGIN:VTIMEZONE
TZID:Europe/Zurich
X-LIC-LOCATION:Europe/Zurich
BEGIN:DAYLIGHT
DTSTART:20260329T030000
TZOFFSETFROM:+0100
TZOFFSETTO:+0200
TZNAME:CEST
END:DAYLIGHT
END:VTIMEZONE
END:VCALENDAR