BEGIN:VCALENDAR
VERSION:2.0
PRODID:-//wp-events-plugin.com//7.2.3.1//EN
TZID:Europe/Zurich
X-WR-TIMEZONE:Europe/Zurich
BEGIN:VEVENT
UID:60@keomt.com
DTSTART;TZID=Europe/Zurich:20260218T200000
DTEND;TZID=Europe/Zurich:20260218T210000
DTSTAMP:20260120T224123Z
URL:https://keomt.com/events/keomt-learning-management-system-updates/
SUMMARY:KEOMT Learning Management System Updates
DESCRIPTION:Moderator: John Krauss\n\nAs part of the 2025-2027 KEOMT Strate
 gic Plan we are working on making high quality Kaltenborn-Evjenth teaching
  and learning materials available to members. Come hear an update on the p
 rogress and provide input to help shape this important new resource!
CATEGORIES:KEOMT Clinical Practice Webinars,Meetings and Events
END:VEVENT
BEGIN:VTIMEZONE
TZID:Europe/Zurich
X-LIC-LOCATION:Europe/Zurich
BEGIN:STANDARD
DTSTART:20251026T020000
TZOFFSETFROM:+0200
TZOFFSETTO:+0100
TZNAME:CET
END:STANDARD
END:VTIMEZONE
END:VCALENDAR