BEGIN:VCALENDAR
VERSION:2.0
PRODID:-//wp-events-plugin.com//7.2.3.1//EN
TZID:Europe/Zurich
X-WR-TIMEZONE:Europe/Zurich
BEGIN:VEVENT
UID:53@keomt.com
DTSTART;TZID=Europe/Zurich;VALUE=DATE:20250619
DTEND;TZID=Europe/Zurich;VALUE=DATE:20250622
DTSTAMP:20250620T115032Z
URL:https://keomt.com/events/keomt-global-congress-2025/
SUMMARY:KEOMT Global Congress 2025
DESCRIPTION:Do you need to pay for a guest for the congress dinner? Please 
 click here.\n\nJoin us in Zaragoza\, Spain to share ideas and practice our
  manual skills together. We encourage all our members and their colleagues
  to attend and contribute to the ongoing growth and evolution of KEOMT tea
 ching\, clinical practice and research worldwide.\nConference Agenda\nThur
 sday\, June 19\, 2025 – Evolution in Motion: KEOMT Origins\n\n8:00 - 18:
 00 \n\nOur opening day will include several topics related to establishin
 g and maintaining the KEOMT brand in various areas of our practice. The se
 ssions will be interactive\, with KEOMT board members moderating the discu
 ssions and guiding hands-on practice of related KEOMT skills.\n\n 	Welcome
  from Kaltenborn-Evjenth OMT International and the University of Zaragoza\
 n 	Evolving an origin: KEOMT the early years – César Hidalgo-García\, 
 John Krauss\n 	Establishing and maintaining the KEOMT brand in teaching\, 
 practice\, and research: joint mobilization/manipulation – John Krauss\n
  	Establishing and maintaining the KEOMT brand in teaching\, practice\, an
 d research: soft tissue mobilization/manipulation – César Hidalgo-Garc
 ía\, Orosia Lucha López\,  José-Miguel Tricas\n 	Establishing and main
 taining the KEOMT brand in teaching\, practice\, and research: training 
 – John Krauss\, César Hidalgo-García\n 	Past and current practice: geo
 graphical\, cultural\, and legal considerations on KEOMT brand delivery 
 – John Krauss\n\nFriday\, June 20\, 2025 – Evolution in Motion: KEOMT 
 Current Practice\n\n8:00 - 18:30 \n\nOur second day together will include
  topics that reflect current KEOMT practice and research to meet the needs
  of various patient populations and treatment settings. The sessions will 
 be delivered by KEOMT instructors and practitioners\, and will include a m
 ix of lecture and practical/lab format. Our congress dinner will be held o
 n Friday evening. Further details to follow.\n\n 	Establishing and maintai
 ning the KEOMT brand in teaching\, practice\, and research: neuromechanics
  – César Hidalgo-García\n 	The role of Kaltenborn-Evjenth techniques f
 or the foot in improving movement control – Kefalas Christos\n 	The cent
 ral nervous system needs information for planning locomotion – Heidi Sin
 z\n 	Lumbar range of motion: changes across childhood and adolescence – 
 Melodie Kondratek\n 	Strategies for management of hypermobility spectrum d
 isorders by Kaltenborn-Evjenth practitioners – Lindsay Brandt\n 	Head-ey
 e movement control tests in patients with chronic neck pain: inter-observe
 r reliability and discriminative validity – Jutta Affolter\, Eveline Del
 la Casa\n 	Designing effective education resources to enhance in-person le
 arning – César Hidalgo-García\n 	Lightning round research presentation
 s – a series of 8-minute presentations on a variety of topics by establi
 shed and emerging KEOMT researchers.\n 	KEOMT Business Meeting\n\nSaturday
 \, June 21\, 2025 – Evolution in Motion: Future Practice \n\n9:00 - 19:
 00\n\nOur final day will emphasize future directions to promote ongoing gr
 owth and sustainability of the Kaltenborn-Evjenth concept. This day is co-
 sponsored with OMT Spain and will be open to members of the local healthca
 re community in addition to KEOMT members. Our presenters will include KEO
 MT members\, physicians\, students and researchers from around the globe.\
 n\n 	Welcome to our public attendees\n 	Evolving the practice of manual th
 erapy: integrating AI into teaching\, practice\, and research – John Kra
 uss\n 	Blending technology and modern surgical techniques – Justin Smith
 \, MD\n 	Upper cervical evaluation and treatment: from scientific evidence
  to clinical evidence (includes patient demonstration) – César Hidalgo-
 García\n 	Applying the KEOMT approach to restore neuromuscular control (i
 ncludes patient demonstration and EMG correlation) – John Krauss\, Loret
 o Ferrández\n 	The science of training: managing training based on healin
 g timeframes – Christie Smith\n 	Blood flow restriction training – Hé
 ctor Tricás\n 	Complex regional pain syndrome from the perspective of phy
 siotherapy/OMT – Matthias Burkert\n 	Lightning round research presentati
 ons – a series of 8-minute presentations on a variety of topics by estab
 lished and emerging KEOMT researchers.\n 	Congress closing remarks and fut
 ure directions – César Hidalgo-García\n\nLightning Round Research Pres
 entation Proposals\nPlease find details and submit your proposal for an 8-
 minute research presentation or scientific poster here. Rolling reviews wi
 ll occur on a first come\, first served basis.\n\nConference Price\nThe re
 gistration price includes participation in the 3-day congress (lunch provi
 ded daily) and the congress dinner on Friday evening.\n\nActive KEOMT Memb
 ers (2025 dues paid): 380 Swiss franc\nInactive KEOMT Members\, Non-member
 s: 440 Swiss franc\n\nTravel &amp\; Hotel Details\nZaragoza can be reached
  easily by train from Barcelona or Madrid. If you plan to travel by air\, 
 flights into Madrid may be a better choice as it will be peak tourism seas
 on in Barcelona. A discounted room rate with breakfast included is availa
 ble for conference participants at Hotel Reina Petronila\, a 5-star Zarag
 oza hotel. Please reserve your hotel room by May 5 to ensure the discount 
 is available.\n\nHotel rates: Single use room with daily breakfast €118.
 00\; Double use room with daily breakfast €136.00\n\nHotel booking site:
  palafoxhoteles.com/…/hotel-reina-petronila or book by email at hotelrei
 napetronila@palafoxhoteles.com.\n\nHotel discount code: KEOMT\nGet Your Ti
 ckets Here for the 2025 Global Congress Meeting\n[um_show_content roles="u
 m_member\,um_ke-instructor\,um_ke-omt\,um_instructor-in-training\,administ
 rator"]\nMembers Tickets\n[/um_show_content]\nNon-Members Tickets
CATEGORIES:Meetings and Events
LOCATION:University of Zaragoza Facultad de Ciencias de la Salud\, c/ Domin
 go Miral s/n. 50009\, Zaragoza\, Spain
X-APPLE-STRUCTURED-LOCATION;VALUE=URI;X-ADDRESS=c/ Domingo Miral s/n. 50009
 \, Zaragoza\, Spain;X-APPLE-RADIUS=100;X-TITLE=University of Zaragoza Facu
 ltad de Ciencias de la Salud:geo:0,0
END:VEVENT
BEGIN:VTIMEZONE
TZID:Europe/Zurich
X-LIC-LOCATION:Europe/Zurich
BEGIN:DAYLIGHT
DTSTART:20250330T030000
TZOFFSETFROM:+0100
TZOFFSETTO:+0200
TZNAME:CEST
END:DAYLIGHT
END:VTIMEZONE
END:VCALENDAR