BEGIN:VCALENDAR
VERSION:2.0
PRODID:-//wp-events-plugin.com//7.2.3.1//EN
TZID:Europe/Zurich
X-WR-TIMEZONE:Europe/Zurich
BEGIN:VEVENT
UID:63@keomt.com
DTSTART;TZID=Europe/Zurich:20260512T190000
DTEND;TZID=Europe/Zurich:20260512T200000
DTSTAMP:20260420T165856Z
URL:https://keomt.com/events/debunking-fake-science-and-narratives-relatin
 g-to-manual-therapy/
SUMMARY:Debunking Fake Science and Narratives Relating to Manual Therapy
DESCRIPTION:Moderator: John Krauss\nWhat myths or untrue statements about m
 anual therapy are impacting your practice or teaching environments? We wil
 l address these issues in this interactive webinar\, co-sponsored with KEO
 MPT US.\nIf you have specific items you would like us to address\, please 
 complete this brief survey no later than May 5\, 2026.
CATEGORIES:KEOMT Clinical Practice Webinars,Meetings and Events
END:VEVENT
BEGIN:VTIMEZONE
TZID:Europe/Zurich
X-LIC-LOCATION:Europe/Zurich
BEGIN:DAYLIGHT
DTSTART:20260329T030000
TZOFFSETFROM:+0100
TZOFFSETTO:+0200
TZNAME:CEST
END:DAYLIGHT
END:VTIMEZONE
END:VCALENDAR