BEGIN:VCALENDAR
VERSION:2.0
PRODID:-//wp-events-plugin.com//7.2.3.1//EN
TZID:Europe/Zurich
X-WR-TIMEZONE:Europe/Zurich
BEGIN:VEVENT
UID:59@keomt.com
DTSTART;TZID=Europe/Zurich:20260121T200000
DTEND;TZID=Europe/Zurich:20260121T210000
DTSTAMP:20251222T194722Z
URL:https://keomt.com/events/cranial-nerve-examination-in-the-context-of-w
 hole-body-problems/
SUMMARY:Cranial Nerve Examination in the Context of Whole Body Problems
DESCRIPTION:Moderator: Oliver Schroter
CATEGORIES:KEOMT Clinical Practice Webinars,Meetings and Events
END:VEVENT
BEGIN:VTIMEZONE
TZID:Europe/Zurich
X-LIC-LOCATION:Europe/Zurich
BEGIN:STANDARD
DTSTART:20251026T020000
TZOFFSETFROM:+0200
TZOFFSETTO:+0100
TZNAME:CET
END:STANDARD
END:VTIMEZONE
END:VCALENDAR